BEGIN:VCALENDAR
VERSION:2.0
PRODID:-//SupportAbility - ECPv6.15.20//NONSGML v1.0//EN
CALSCALE:GREGORIAN
METHOD:PUBLISH
X-ORIGINAL-URL:https://supportability.info
X-WR-CALDESC:Events for SupportAbility
REFRESH-INTERVAL;VALUE=DURATION:PT1H
X-Robots-Tag:noindex
X-PUBLISHED-TTL:PT1H
BEGIN:VTIMEZONE
TZID:UTC
BEGIN:STANDARD
TZOFFSETFROM:+0000
TZOFFSETTO:+0000
TZNAME:UTC
DTSTART:20180101T000000
END:STANDARD
END:VTIMEZONE
BEGIN:VEVENT
DTSTART;VALUE=DATE:20191203
DTEND;VALUE=DATE:20191204
DTSTAMP:20260422T230417
CREATED:20190924T224853Z
LAST-MODIFIED:20190924T224853Z
UID:3680-1575331200-1575417599@supportability.info
SUMMARY:Giving Tuesday
DESCRIPTION:Need complete description
URL:https://supportability.info/calendar/giving-tuesday/
LOCATION:CA
CATEGORIES:Giving Tuesday
END:VEVENT
BEGIN:VEVENT
DTSTART;TZID=UTC:20191119T080000
DTEND;TZID=UTC:20191119T080000
DTSTAMP:20260422T230417
CREATED:20191118T033530Z
LAST-MODIFIED:20191127T182815Z
UID:4139-1574150400-1574150400@supportability.info
SUMMARY:Giving Tuesday Matching Program is on-going!
DESCRIPTION:Help award these courageous students!!  Your gifts (earmarked Giving Tuesday) will be doubled on Giving Tuesday! Over $1200 given to date!
URL:https://supportability.info/calendar/giving-tuesday-matching-program-is-on-going/
LOCATION:SupportAbility\, P.O. Box 4885\, Irvine\, CA\, 92616\, United States
CATEGORIES:Giving Tuesday
END:VEVENT
BEGIN:VEVENT
DTSTART;VALUE=DATE:20191101
DTEND;VALUE=DATE:20191204
DTSTAMP:20260422T230417
CREATED:20191105T205053Z
LAST-MODIFIED:20191105T205442Z
UID:4077-1572566400-1575417599@supportability.info
SUMMARY:Giving Tuesday Matching Program Begins
DESCRIPTION:Giving Tuesday donations begin today! They will be matched on the actual day\, Tuesday                                                                                                 December 3rd.
URL:https://supportability.info/calendar/giving-tuesday-matching-program-begins/
LOCATION:3773 University Dr.\,\, in Community Room\, Irvine
CATEGORIES:Fundraiser,Giving Tuesday
END:VEVENT
END:VCALENDAR